BEGIN:VCALENDAR
VERSION:2.0
PRODID:floktu.com
X-WR-TIMEZONE:Australia/Sydney
X-PUBLISHED-TTL:P1W
BEGIN:VEVENT
UID:FloktuEvent33596@floktu.com
DTSTART;TZID=Australia/Sydney:20250803T110000
SEQUENCE:0
TRANSP:OPAQUE
DTEND;TZID=Australia/Sydney:20250803T180000
LOCATION:Castle Hill Showground\, Showground Road\, Castle Hill\, New South
  Wales
SUMMARY:Swiss National Day Celebration Sunday 2025
DESCRIPTION:Visit https://swissnationalday2025.floktu.com for more informat
 ion.
DTSTAMP:20260426T130345Z
END:VEVENT
BEGIN:VTIMEZONE
TZID:Australia/Sydney
X-LIC-LOCATION:Australia/Sydney
END:VTIMEZONE
END:VCALENDAR