BEGIN:VCALENDAR
VERSION:2.0
PRODID:floktu.com
X-PUBLISHED-TTL:P1W
BEGIN:VEVENT
UID:FloktuEvent33596@floktu.com
DTSTART:20250803T010000Z
SEQUENCE:0
TRANSP:OPAQUE
DTEND:20250803T080000Z
LOCATION:Castle Hill Showground\, Showground Road\, Castle Hill\, New South
  Wales
SUMMARY:Swiss National Day Celebration Sunday 2025
DESCRIPTION:Visit https://swissnationalday2025.floktu.com for more informat
 ion.
DTSTAMP:20260426T130842Z
END:VEVENT
END:VCALENDAR